BEGIN:VCALENDAR
VERSION:2.0
PRODID:-//wp-events-plugin.com//7.2.3.1//EN
TZID:America/Edmonton
X-WR-TIMEZONE:America/Edmonton
BEGIN:VEVENT
UID:214@paddlejunkies.com
DTSTART;TZID=America/Edmonton:20240225T070000
DTEND;TZID=America/Edmonton:20240225T103000
DTSTAMP:20240210T153050Z
URL:https://paddlejunkies.com/events/west-edmonton-mall-wave-pool/
SUMMARY:West Edmonton Mall Wave Pool
DESCRIPTION:West Edmonton Mall Wave Pool \n\n\n\n\nAre the winter blues get
 ting you down? Come join Paddle Junkies in the warm waters of the West Edm
 onton Mall Wave Pool on the morning of Feb25th and get your surf on.\n\nBo
 th kayaks and SUP are welcome (if it says bookings are closed it is either
  because: you have not paid for your 2024 membership\, you haven’t given
  us enough time to process your membership account (usually 48 hours) and/
 or you are not logged in. For non members you still need a PJ log in acc
 ount and be logged in\, able to sign up after Jan 31\, if there are spots 
 left)\n\nMeet at 7:00 AM at Entrance C (south side\, close to 87 Ave and 1
 75 St) outside of West Edmonton Mall Water Park.\n\n* must have own gear\,
  including mandatory helmet and pfd\n* 7:00 am sharp meeting time (pool 7:
 30-10:30am)\n* must be a 2024 PJ member to get the discounted price and ea
 rly sign up access until Jan 31\n* no refunds (but you can try and get som
 eone to fill your spot if you can’t make it\, all above rules apply)\n* 
 A document showing meeting place and event details will be sent out a few 
 days before the event\n\n\n\n\n
CATEGORIES:Pool Session
LOCATION:West Edmonton Mall Water Park\, West Edmonton Mall\, 8882 170 St N
 W\,\, Edmonton\, AB\, T5T 4J2\, Canada
GEO:53.522515;-113.624191
X-APPLE-STRUCTURED-LOCATION;VALUE=URI;X-ADDRESS=West Edmonton Mall\, 8882 1
 70 St NW\,\, Edmonton\, AB\, T5T 4J2\, Canada;X-APPLE-RADIUS=100;X-TITLE=W
 est Edmonton Mall Water Park:geo:53.522515,-113.624191
END:VEVENT
BEGIN:VTIMEZONE
TZID:America/Edmonton
X-LIC-LOCATION:America/Edmonton
BEGIN:STANDARD
DTSTART:20231105T010000
TZOFFSETFROM:-0600
TZOFFSETTO:-0700
TZNAME:MST
END:STANDARD
END:VTIMEZONE
END:VCALENDAR