BEGIN:VCALENDAR
VERSION:2.0
PRODID:-//wp-events-plugin.com//7.2.3.1//EN
TZID:America/Edmonton
X-WR-TIMEZONE:America/Edmonton
BEGIN:VEVENT
UID:103@paddlejunkies.com
DTSTART;TZID=America/Edmonton:20220604T120000
DTEND;TZID=America/Edmonton:20220604T150000
DTSTAMP:20220517T170959Z
URL:https://paddlejunkies.com/events/welcome-to-paddling-2022-bbq/
SUMMARY:Welcome to Paddling 2022 BBQ
DESCRIPTION:Welcome to Paddling 2022 BBQ Come join us for the official kick
 off to the Paddle Junkies paddling season. We'll be starting with a free B
 BQ at Pearce Estate Park followed by a casual paddle down Harveys Passage 
 afterwards. Bring your appetite and your paddling gear!
CATEGORIES:PJ Social
LOCATION:Harvey Passage\, Harvey Passage\, Calgary\, Alberta\, Canada
GEO:51.0439438;-114.01379600000001
X-APPLE-STRUCTURED-LOCATION;VALUE=URI;X-ADDRESS=Harvey Passage\, Calgary\, 
 Alberta\, Canada;X-APPLE-RADIUS=100;X-TITLE=Harvey Passage:geo:51.0439438,
 -114.01379600000001
END:VEVENT
BEGIN:VTIMEZONE
TZID:America/Edmonton
X-LIC-LOCATION:America/Edmonton
BEGIN:DAYLIGHT
DTSTART:20220313T030000
TZOFFSETFROM:-0700
TZOFFSETTO:-0600
TZNAME:MDT
END:DAYLIGHT
END:VTIMEZONE
END:VCALENDAR