BEGIN:VCALENDAR
VERSION:2.0
PRODID:-//wp-events-plugin.com//7.2.3.1//EN
TZID:America/Edmonton
X-WR-TIMEZONE:America/Edmonton
BEGIN:VEVENT
UID:74@paddlejunkies.com
DTSTART;TZID=America/Edmonton:20200818T180000
DTEND;TZID=America/Edmonton:20200818T203000
DTSTAMP:20200817T012751Z
URL:https://paddlejunkies.com/events/tuesday-ladies-night-harvie-passage-0
 8-18-20/
SUMMARY:Tuesday Ladies Night @ Harvie Passage 08-18-20
DESCRIPTION:Tuesday Ladies Night @ Harvie Passage 08-18-20 Ladies\, join us
  at Harvie Passage for a fun evening of paddling\, skills development and 
 progression in a friendly and supportive environment.\n\nIt’s going to b
 e another hot one this week\, so sign up early and come out for the fun.\n
 \nMeet in the parking lot at Pierce Estates\, we’ll do some quick paperw
 ork and head to the put in together.  If possible try to arrive a bit bef
 ore 6 to get ready\, as our days are starting to get a bit shorter\, we ne
 ed to try and do what we can to spend more time on the water.
CATEGORIES:PJ Trip
LOCATION:Harvey Passage\, Harvey Passage\, Calgary\, Alberta\, Canada
GEO:51.0439438;-114.01379600000001
X-APPLE-STRUCTURED-LOCATION;VALUE=URI;X-ADDRESS=Harvey Passage\, Calgary\, 
 Alberta\, Canada;X-APPLE-RADIUS=100;X-TITLE=Harvey Passage:geo:51.0439438,
 -114.01379600000001
END:VEVENT
BEGIN:VTIMEZONE
TZID:America/Edmonton
X-LIC-LOCATION:America/Edmonton
BEGIN:DAYLIGHT
DTSTART:20200308T030000
TZOFFSETFROM:-0700
TZOFFSETTO:-0600
TZNAME:MDT
END:DAYLIGHT
END:VTIMEZONE
END:VCALENDAR