BEGIN:VCALENDAR
VERSION:2.0
PRODID:-//wp-events-plugin.com//7.2.3.1//EN
TZID:America/Edmonton
X-WR-TIMEZONE:America/Edmonton
BEGIN:VEVENT
UID:221@paddlejunkies.com
DTSTART;TZID=America/Edmonton:20240518T073000
DTEND;TZID=America/Edmonton:20240518T093000
DTSTAMP:20240515T033041Z
URL:https://paddlejunkies.com/events/three-rivers-breakfast/
SUMMARY:[Social] Three Rivers Breakfast
DESCRIPTION:[Social] Three Rivers Breakfast Hey PJs!\n\nPJs will be helping
  out our friends at Pincher Creek by volunteering to help with breakfast o
 n the Saturday morning.\n\nYou don't need to sign up\, just show up in the
  morning and help with whatever they need. See you there!
CATEGORIES:Festival,PJ Social
LOCATION:Three Rivers Campground\, https://lionscastlerivercampground.com/\
 , Cowley\, Alberta\, Canada
X-APPLE-STRUCTURED-LOCATION;VALUE=URI;X-ADDRESS=https://lionscastlerivercam
 pground.com/\, Cowley\, Alberta\, Canada;X-APPLE-RADIUS=100;X-TITLE=Three 
 Rivers Campground:geo:0,0
END:VEVENT
BEGIN:VTIMEZONE
TZID:America/Edmonton
X-LIC-LOCATION:America/Edmonton
BEGIN:DAYLIGHT
DTSTART:20240310T030000
TZOFFSETFROM:-0700
TZOFFSETTO:-0600
TZNAME:MDT
END:DAYLIGHT
END:VTIMEZONE
END:VCALENDAR