BEGIN:VCALENDAR
VERSION:2.0
PRODID:-//wp-events-plugin.com//7.2.3.1//EN
TZID:America/Edmonton
X-WR-TIMEZONE:America/Edmonton
BEGIN:VEVENT
UID:222@paddlejunkies.com
DTSTART;TZID=America/Edmonton:20240525T153000
DTEND;TZID=America/Edmonton:20240525T201500
DTSTAMP:20240517T045212Z
URL:https://paddlejunkies.com/events/sheep-river-run-3/
SUMMARY:Sheep River Run
DESCRIPTION:Sheep River Run We’ll be running a section of the Sheep River
  from the Gorge Creek to  Sandy McNabb. This is a class 2+ run. Join us f
 or one of the most beautiful class 2 run in our area.\n\nMeet at the "Sand
 y McNabb Picnic Area" side at 3:30pm. Once everyone has arrived and is rea
 dy we will shuttle cars to the Gorge Creek and get on the river.\n\nIf wat
 er level will be too high or low\, run can be postponed - check your email
  a day before the run if there are any updates.\n\nMap with pin: https://w
 ww.google.com/maps/place/Sandy+McNabb+Picnic+Area/@50.6292957\,-114.528011
 4\,968m/data=!3m2!1e3!4b1!4m6!3m5!1s0x537052d4e64faa71:0xf356afbf6230f5f8!
 8m2!3d50.6292923!4d-114.5254365!16s%2Fg%2F11gglsv9fx?entry=ttu\n\nRequirem
 ents: \n\n 	\n\n 	It's Class 2+ run and basic maneuvers are required to av
 oid hazards! You have to know how to perform a correct Eddy Turns and Ferr
 y on class 2 water (like Harvie Passage) to participate. These skills will
  be checked right after we start the run. If you did runs like eg. lower E
 lbow or Kananaskis race course before you are good to go. If you are not s
 ure if you are ready\,  please message us and we can discuss further!\n 	
 You must be an active 2024 member of Paddle Junkies to sign up\n 	Bring yo
 ur own gear – your boat with two functional flotation bags\, PFD\, helme
 t\, paddle\, throwbag.\n\n\n\n\n\n\n\n\n\n\n\n\n\n
CATEGORIES:River Run
LOCATION:Sheep River\, tbd\, Longview\, Canada
X-APPLE-STRUCTURED-LOCATION;VALUE=URI;X-ADDRESS=tbd\, Longview\, Canada;X-A
 PPLE-RADIUS=100;X-TITLE=Sheep River:geo:0,0
END:VEVENT
BEGIN:VTIMEZONE
TZID:America/Edmonton
X-LIC-LOCATION:America/Edmonton
BEGIN:DAYLIGHT
DTSTART:20240310T030000
TZOFFSETFROM:-0700
TZOFFSETTO:-0600
TZNAME:MDT
END:DAYLIGHT
END:VTIMEZONE
END:VCALENDAR