BEGIN:VCALENDAR
VERSION:2.0
PRODID:-//wp-events-plugin.com//7.2.3.1//EN
TZID:America/Edmonton
X-WR-TIMEZONE:America/Edmonton
BEGIN:VEVENT
UID:220@paddlejunkies.com
DTSTART;TZID=America/Edmonton:20240517T193000
DTEND;TZID=America/Edmonton:20240517T213000
DTSTAMP:20240515T032012Z
URL:https://paddlejunkies.com/events/rum-runners/
SUMMARY:[Social] The Rumrunner
DESCRIPTION:[Social] The Rumrunner Hey folks!\n\nPaddlejunkies is headed to
  Three Rivers\, and we're looking forward to a great weekend.\n\nOn the Fr
 iday night\, if you're interested in grabbing a beer and a burger\, we're 
 going to head to The Rumrunner for an informal gathering. We're thinking 7
 :30ish? Might be later - we'll meet up at the Three Rivers campsite first\
 , look for the PJs flag.
CATEGORIES:Festival,PJ Social
LOCATION:the RumRunner\, 7902 20 Ave\, Coleman AB T0K0M0\, Coleman\, Canada
X-APPLE-STRUCTURED-LOCATION;VALUE=URI;X-ADDRESS=7902 20 Ave\, Coleman AB T0
 K0M0\, Coleman\, Canada;X-APPLE-RADIUS=100;X-TITLE=the RumRunner:geo:0,0
END:VEVENT
BEGIN:VTIMEZONE
TZID:America/Edmonton
X-LIC-LOCATION:America/Edmonton
BEGIN:DAYLIGHT
DTSTART:20240310T030000
TZOFFSETFROM:-0700
TZOFFSETTO:-0600
TZNAME:MDT
END:DAYLIGHT
END:VTIMEZONE
END:VCALENDAR