BEGIN:VCALENDAR
VERSION:2.0
PRODID:-//wp-events-plugin.com//7.2.3.1//EN
TZID:America/Edmonton
X-WR-TIMEZONE:America/Edmonton
BEGIN:VEVENT
UID:194@paddlejunkies.com
DTSTART;TZID=America/Edmonton:20230923T100000
DTEND;TZID=America/Edmonton:20230923T130000
DTSTAMP:20230923T030918Z
URL:https://paddlejunkies.com/events/red-deer/
SUMMARY:Red Deer
DESCRIPTION:Red Deer We’ll be running a lower section of the Red Deer Riv
 er. Put in below the Double Ledge rapid. It's a short 3km run\, class 2+ a
 t this flow level (class 3 at regular flows).  Keep in mind that this wil
 l be a low volume run. In fact if water level will go significantly lower 
 in next days\, it could be cancelled as no longer runnable - so check emai
 l at Thursday and Friday.\n\nMeet at the Tim Hortons parking loot in Sundr
 e\, at 10:00am\, once everyone has arrived we will get on the river.\n\nht
 tps://www.google.com/maps/place/Tim+Hortons/@51.7915318\,-114.6536803\,15.
 17z/data=!4m6!3m5!1s0x5376a27b259368bb:0x3ed01cd99d9eeca7!8m2!3d51.7940319
 !4d-114.6624747!16s%2Fg%2F11bw46y284?entry=ttu\n\n&nbsp\;\n\nRequirements:
  \n\n 	\n\n 	It's class 2+ run\, you should have a couple days in class 2 
 environment already\, be comfortable doing eddy turns and ferry in moving 
 water. Occasional easy maneuvering around small rocks may be required. If 
 this is not yet the case\, please message us and we can discuss further!\n
  	You must be an active 2023 member of Paddle Junkies to sign up\n 	Bring 
 your own gear – your boat\, PFD\, helmet\, spray skirt and paddle.  Flo
 at bags are greatly appreciated.\n\n 	Also\, it’s actually required to c
 arry a whistle and rope on each watercraft.\n\n\n\n\n\nIf you want to regi
 ster but see that bookings are closed for this event:\n\n-Have you paid fo
 r your membership at www.paddlejunkies.com/membership\n-Have you created a
 n account/user name at www.paddlejunkies.com/register\n-Have you registere
 d with the same email as you used for your membership payment (otherwise w
 e don't know who to activate)\n-Have you waited 48 hours for our volunteer
 s to activate your PJ account\n-Are you logged in to your account before t
 rying to sign up for the event\n\n-If it still doesn’t work\, please mes
 sage us!\n
CATEGORIES:River Run
LOCATION:Sundre Tim Hortons\, 849 Main Ave W\, Sundre\, AB\, T0M 1X0\, Cana
 da
X-APPLE-STRUCTURED-LOCATION;VALUE=URI;X-ADDRESS=849 Main Ave W\, Sundre\, A
 B\, T0M 1X0\, Canada;X-APPLE-RADIUS=100;X-TITLE=Sundre Tim Hortons:geo:0,0
END:VEVENT
BEGIN:VTIMEZONE
TZID:America/Edmonton
X-LIC-LOCATION:America/Edmonton
BEGIN:DAYLIGHT
DTSTART:20230312T030000
TZOFFSETFROM:-0700
TZOFFSETTO:-0600
TZNAME:MDT
END:DAYLIGHT
END:VTIMEZONE
END:VCALENDAR