BEGIN:VCALENDAR
VERSION:2.0
PRODID:-//wp-events-plugin.com//7.2.3.1//EN
TZID:America/Edmonton
X-WR-TIMEZONE:America/Edmonton
BEGIN:VEVENT
UID:201@paddlejunkies.com
DTSTART;TZID=America/Edmonton:20240201T203000
DTEND;TZID=America/Edmonton:20240201T220000
DTSTAMP:20240123T232301Z
URL:https://paddlejunkies.com/events/pool-session-2/
SUMMARY:Pool Session
DESCRIPTION:Pool Session Staring at your kayak wishing it was warmer out? W
 ondering if you'll ever get into the water again?\n\nWell wonder no more! 
 The Paddle Junkies is collaborating with the Whitewater Paddling Club to b
 ring you weekly pool sessions at the UofC every Thursday night from 8:30PM
  to 10:00PM!\n\nRegistration for the events is here: https://www.whitewate
 rpaddlingclub.com/poolsessions\n\nAs a PaddleJunkies member (once you have
  paid your 2024 dues) you pay the low low price of $20 for each session yo
 u attend. They have gear there and you can also bring your own.\n\nSo come
  on out and shake off those winter blues! We hope to see you in the pool!
CATEGORIES:River Run
LOCATION:University of Calgary Pool\, 2500 University Dr NW\, Calgary\, Alb
 erta\, T2N 1N4\, Canada
X-APPLE-STRUCTURED-LOCATION;VALUE=URI;X-ADDRESS=2500 University Dr NW\, Cal
 gary\, Alberta\, T2N 1N4\, Canada;X-APPLE-RADIUS=100;X-TITLE=University of
  Calgary Pool:geo:0,0
END:VEVENT
BEGIN:VTIMEZONE
TZID:America/Edmonton
X-LIC-LOCATION:America/Edmonton
BEGIN:STANDARD
DTSTART:20231105T010000
TZOFFSETFROM:-0600
TZOFFSETTO:-0700
TZNAME:MST
END:STANDARD
END:VTIMEZONE
END:VCALENDAR