BEGIN:VCALENDAR
VERSION:2.0
PRODID:-//wp-events-plugin.com//7.2.3.1//EN
TZID:America/Edmonton
X-WR-TIMEZONE:America/Edmonton
BEGIN:VEVENT
UID:133@paddlejunkies.com
DTSTART;TZID=America/Edmonton:20220820T103000
DTEND;TZID=America/Edmonton:20220820T160000
DTSTAMP:20220819T042321Z
URL:https://paddlejunkies.com/events/pjs-go-to-the-brierlies/
SUMMARY:PJs Go to the Brierlies
DESCRIPTION:PJs Go to the Brierlies Hi Everyone\,\n\nTrying to get everyone
  out for another beginner river run for the weekend.  We are headed out t
 o Rocky Mountain House to get out on the North Saskatchewan River at the B
 rierlies Rapids.\n\nhttps://paddlingmaps.com/trip/Alberta/142-brierlies-ra
 pids\n\nThis is a fairly quick river run but we will be hanging out at the
  bottom wave after the run for some surfing fun.  We can also practice sw
 imming the bottom rapid if people are interested and throw bagging the swi
 mmers\n\nWe will meet in at Tim Hortons as you enter Rocky Mountain House 
 at 10:30 AM on Saturday.\n\n&nbsp\;
CATEGORIES:PJ Trip,River Run
LOCATION:Rocky Mountain House South Tim Hortons\, 4403 41 Ave\, Rocky Mount
 ain House\, Alberta\, T4T 1A6\, Canada
X-APPLE-STRUCTURED-LOCATION;VALUE=URI;X-ADDRESS=4403 41 Ave\, Rocky Mountai
 n House\, Alberta\, T4T 1A6\, Canada;X-APPLE-RADIUS=100;X-TITLE=Rocky Moun
 tain House South Tim Hortons:geo:0,0
END:VEVENT
BEGIN:VTIMEZONE
TZID:America/Edmonton
X-LIC-LOCATION:America/Edmonton
BEGIN:DAYLIGHT
DTSTART:20220313T030000
TZOFFSETFROM:-0700
TZOFFSETTO:-0600
TZNAME:MDT
END:DAYLIGHT
END:VTIMEZONE
END:VCALENDAR