BEGIN:VCALENDAR
VERSION:2.0
PRODID:-//wp-events-plugin.com//7.2.3.1//EN
TZID:America/Edmonton
X-WR-TIMEZONE:America/Edmonton
BEGIN:VEVENT
UID:83@paddlejunkies.com
DTSTART;TZID=America/Edmonton:20201017T130000
DTEND;TZID=America/Edmonton:20201017T160000
DTSTAMP:20201015T212927Z
URL:https://paddlejunkies.com/events/paddle-junkies-2020-agm/
SUMMARY:Paddle Junkies 2020 AGM
DESCRIPTION:Paddle Junkies 2020 AGM Come join us for our 2020 AGM to review
  how the club did this year and help us elect a new board for the 2021 sea
 son.\n\nAs the weather sucks and is not on our side this weekend this meet
 ing will be held online via Zoom. You must register (sign up for the event
 ) so we can send you the link and enter you for some sweet prizes.\n\n&nbs
 p\;
CATEGORIES:PJ AGM
END:VEVENT
BEGIN:VTIMEZONE
TZID:America/Edmonton
X-LIC-LOCATION:America/Edmonton
BEGIN:DAYLIGHT
DTSTART:20200308T030000
TZOFFSETFROM:-0700
TZOFFSETTO:-0600
TZNAME:MDT
END:DAYLIGHT
END:VTIMEZONE
END:VCALENDAR