BEGIN:VCALENDAR
VERSION:2.0
PRODID:-//wp-events-plugin.com//7.2.3.1//EN
TZID:America/Edmonton
X-WR-TIMEZONE:America/Edmonton
BEGIN:VEVENT
UID:146@paddlejunkies.com
DTSTART;TZID=America/Edmonton:20230101T190000
DTEND;TZID=America/Edmonton:20230101T210000
DTSTAMP:20230101T215455Z
URL:https://paddlejunkies.com/events/new-years-day-kan-run-and-pub-night/
SUMMARY:New Years Day Kan Run and Pub Night
DESCRIPTION:New Years Day Kan Run and Pub Night On New Years' Day\, Paddle 
 Junkies is going to do a combination Kananaskis Run and Pub Night.\n\nThe 
 Kan Run will be weather dependent. The Pub Night is not and will run from 
 7 to 9 (or as long as folks stay around - there's no hard and fast "get ou
 t of here" time). We'll be meeting at Fergus &amp\; Bix West Springs · 87
 3 85 St SW\, Calgary\, AB T3H 0J5\, Canada right after our paddle - hope t
 o see you all there!\n\nUpdate:  Weather is looking good\, so keep your p
 addles ready...\n\nUpdate 2: We're keeping an eye on flows\, right now it'
 s HE 18 which is no bueno. Keep an eye here and we'll look again tomorrow.
  Pub Night is looking good though.\n\nUpdate 3: Flows never came around. B
 oo. Hope everyone had a great New Years Eve\, keep an eye out for a weeken
 d run if we get some earlier water flow times.
CATEGORIES:PJ Social,River Run
LOCATION:TBD\, TBD\, Calgary\, Canada
X-APPLE-STRUCTURED-LOCATION;VALUE=URI;X-ADDRESS=TBD\, Calgary\, Canada;X-AP
 PLE-RADIUS=100;X-TITLE=TBD:geo:0,0
END:VEVENT
BEGIN:VTIMEZONE
TZID:America/Edmonton
X-LIC-LOCATION:America/Edmonton
BEGIN:STANDARD
DTSTART:20221106T010000
TZOFFSETFROM:-0600
TZOFFSETTO:-0700
TZNAME:MST
END:STANDARD
END:VTIMEZONE
END:VCALENDAR