BEGIN:VCALENDAR
VERSION:2.0
PRODID:-//wp-events-plugin.com//7.2.3.1//EN
TZID:America/Edmonton
X-WR-TIMEZONE:America/Edmonton
BEGIN:VEVENT
UID:217@paddlejunkies.com
DTSTART;TZID=America/Edmonton:20240511T173000
DTEND;TZID=America/Edmonton:20240511T200000
DTSTAMP:20240510T232553Z
URL:https://paddlejunkies.com/events/lower-kan-run-6/
SUMMARY:Lower Kan Run
DESCRIPTION:Lower Kan Run We’ll be running a lower section of the Kananas
 kis River\, from Canoe Meadows to Seebe Dam. It's a class 2 section.\n\nKa
 nanaskis river is dam controlled\, and because we still don't know the dam
  schedule the tentative time to meet at the paring loot is 1pm\, next to p
 icnic tables. We will send a time update on your email a couple days befor
 e the run.\n\n&nbsp\;\n\nRequirements: \n\n 	\n\n 	You need to have taken 
 an intro to whitewater course or have comparable experience. If this is no
 t yet the case\, please message us and we can discuss further!\n 	You must
  be an active 2024 member of Paddle Junkies to sign up\n 	Bring your own g
 ear – your boat with float bags\, PFD\, helmet\, spray skirt and paddle.
 \n\n 	Also\, it’s actually required to carry a whistle and rope on each 
 watercraft\, so if you don’t have those yet\, consider purchasing them v
 ery soon\n\n\n\n\n\nIf you want to register but see that bookings are clos
 ed for this event:\n\n-Have you paid for your membership at www.paddlejunk
 ies.com/membership\n-Have you created an account/user name at www.paddleju
 nkies.com/register\n-Have you registered with the same email as you used f
 or your membership payment (otherwise we don't know who to activate)\n-Hav
 e you waited 48 hours for our volunteers to activate your PJ account\n-Are
  you logged in to your account before trying to sign up for the event\n\n-
 If it still doesn’t work\, please message us!\n
CATEGORIES:River Run
LOCATION:Canoe Meadows\, Canoe Meadows\, Kananaskis\, Alberta\, Canada
GEO:51.0547945;-115.01611409999998
X-APPLE-STRUCTURED-LOCATION;VALUE=URI;X-ADDRESS=Canoe Meadows\, Kananaskis\
 , Alberta\, Canada;X-APPLE-RADIUS=100;X-TITLE=Canoe Meadows:geo:51.0547945
 ,-115.01611409999998
END:VEVENT
BEGIN:VTIMEZONE
TZID:America/Edmonton
X-LIC-LOCATION:America/Edmonton
BEGIN:DAYLIGHT
DTSTART:20240310T030000
TZOFFSETFROM:-0700
TZOFFSETTO:-0600
TZNAME:MDT
END:DAYLIGHT
END:VTIMEZONE
END:VCALENDAR