BEGIN:VCALENDAR
VERSION:2.0
PRODID:-//wp-events-plugin.com//7.2.3.1//EN
TZID:America/Edmonton
X-WR-TIMEZONE:America/Edmonton
BEGIN:VEVENT
UID:165@paddlejunkies.com
DTSTART;TZID=America/Edmonton:20230602T183000
DTEND;TZID=America/Edmonton:20230602T210000
DTSTAMP:20230529T190936Z
URL:https://paddlejunkies.com/events/lower-kan-run-2/
SUMMARY:Lower Kan Run
DESCRIPTION:Lower Kan Run We’ll be running a lower section of the Kananas
 kis River\, from Canoe Meadows to Seebe Dam. It's a class 2 section. Join 
 us for a fun evening on the river.\n\nMeet at the Canoe Meadows parking lo
 ot\, next to picnic tables at 6:30pm sharp\, once everyone has arrived and
  is ready we will shuttle cars down and get on the river.\n\nRequirements:
  \n\n 	\n\n 	You need to have taken an intro to whitewater course or have 
 comparable experience. If this is not yet the case\, please message us and
  we can discuss further!\n 	You must be an active 2023 member of Paddle Ju
 nkies to sign up\n 	Bring your own gear – your boat\, PFD\, helmet\, spr
 ay skirt and paddle.  Float bags are greatly appreciated.\n\n 	Also\, it
 ’s actually required to carry a whistle and rope on each watercraft\, so
  if you don’t have those yet\, consider purchasing them very soon\n\n\n\
 n\n\nIf you want to register but see that bookings are closed for this eve
 nt:\n\n-Have you paid for your membership at www.paddlejunkies.com/members
 hip\n-Have you created an account/user name at www.paddlejunkies.com/regis
 ter\n-Have you registered with the same email as you used for your members
 hip payment (otherwise we don't know who to activate)\n-Have you waited 48
  hours for our volunteers to activate your PJ account\n-Are you logged in 
 to your account before trying to sign up for the event\n\n-If it still doe
 sn’t work\, please message us!\n
CATEGORIES:River Run
LOCATION:Canoe Meadows\, Canoe Meadows\, Kananaskis\, Alberta\, Canada
GEO:51.0547945;-115.01611409999998
X-APPLE-STRUCTURED-LOCATION;VALUE=URI;X-ADDRESS=Canoe Meadows\, Kananaskis\
 , Alberta\, Canada;X-APPLE-RADIUS=100;X-TITLE=Canoe Meadows:geo:51.0547945
 ,-115.01611409999998
END:VEVENT
BEGIN:VTIMEZONE
TZID:America/Edmonton
X-LIC-LOCATION:America/Edmonton
BEGIN:DAYLIGHT
DTSTART:20230312T030000
TZOFFSETFROM:-0700
TZOFFSETTO:-0600
TZNAME:MDT
END:DAYLIGHT
END:VTIMEZONE
END:VCALENDAR