BEGIN:VCALENDAR
VERSION:2.0
PRODID:-//wp-events-plugin.com//7.2.3.1//EN
TZID:America/Edmonton
X-WR-TIMEZONE:America/Edmonton
BEGIN:VEVENT
UID:218@paddlejunkies.com
DTSTART;TZID=America/Edmonton:20240516T180000
DTEND;TZID=America/Edmonton:20240516T200000
DTSTAMP:20240516T195226Z
URL:https://paddlejunkies.com/events/lower-elbow-run-4/
SUMMARY:Lower Elbow Run
DESCRIPTION:Lower Elbow Run We’ll be running a section of the Elbow River
  from the Elbow River Launch to the Paddy Flat. Join us for a fun evening 
 on the river. This is a run for paddlers that already have experience in r
 unning class 2 rivers.\n\nMeet at the "Elbow River Launch - Provincial Rec
 reation Area" put in at 6:00pm\, once everyone has arrived and is ready we
  will shuttle cars down to the Paddy Flat and get on the river.\n\nMap: ht
 tps://www.google.com/maps/place/Elbow+River+Launch+-+Provincial+Recreation
 +Area/@50.8377388\,-114.8087238\,13z/data=!4m5!3m4!1s0x0:0xcc406561d80b38a
 4!8m2!3d50.8663409!4d-114.752619\n\nRequirements: \n\n 	\n\n 	It's Class 2
 + run and basic maneuvers are required to avoid hazards. You have to know 
 how to perform a correct Eddy Turns and Ferry on class 2 water (like Harvi
 e Passage) to participate. These skills will be checked right after we sta
 rt the run. If you are not sure if you are ready\,  please message us and
  we can discuss further!\n 	You must be an active 2024 member of Paddle Ju
 nkies to sign up\n 	Bring your own gear – your boat with two functional 
 flotation bags\, PFD\, helmet\, paddle\, throwbag.\n\n\n\n\n\n&nbsp\;\n\nI
 f you want to register but see that bookings are closed for this event:\n\
 n-Have you paid for your membership at www.paddlejunkies.com/membership\n-
 Have you created an account/user name at www.paddlejunkies.com/register\n-
 Have you registered with the same email as you used for your membership pa
 yment (otherwise we don’t know who to activate)\n-Have you waited 48 hou
 rs for our volunteers to activate your PJ account\n-Are you logged in to y
 our account before trying to sign up for the event\n\n-If it still doesn
 ’t work\, please message us!\n\n\n\n\n\n
CATEGORIES:River Run
LOCATION:Elbow River\, tbd\, Bragg Creek\, Canada
X-APPLE-STRUCTURED-LOCATION;VALUE=URI;X-ADDRESS=tbd\, Bragg Creek\, Canada;
 X-APPLE-RADIUS=100;X-TITLE=Elbow River:geo:0,0
END:VEVENT
BEGIN:VTIMEZONE
TZID:America/Edmonton
X-LIC-LOCATION:America/Edmonton
BEGIN:DAYLIGHT
DTSTART:20240310T030000
TZOFFSETFROM:-0700
TZOFFSETTO:-0600
TZNAME:MDT
END:DAYLIGHT
END:VTIMEZONE
END:VCALENDAR