BEGIN:VCALENDAR
VERSION:2.0
PRODID:-//wp-events-plugin.com//7.2.3.1//EN
TZID:America/Edmonton
X-WR-TIMEZONE:America/Edmonton
BEGIN:VEVENT
UID:81@paddlejunkies.com
DTSTART;TZID=America/Edmonton:20200917T180000
DTEND;TZID=America/Edmonton:20200917T200000
DTSTAMP:20200914T005830Z
URL:https://paddlejunkies.com/events/ladies-night-thursday-september-17/
SUMMARY:Ladies Night - Thursday September 17
DESCRIPTION:Ladies Night - Thursday September 17 Ladies night this Thursday
  at Harvie Passage. Come out and join us for a fun evening on the water.\n
 \nChanging up the day this week so we can have a bit of warmer weather and
  hopefully some sunshine.\n\nLadies\, let’s meet at the Pierce Estates p
 arking lot at 6 geared up and ready to go so we can make use of all the su
 nshine.
CATEGORIES:River Run
LOCATION:Harvey Passage\, Harvey Passage\, Calgary\, Alberta\, Canada
GEO:51.0439438;-114.01379600000001
X-APPLE-STRUCTURED-LOCATION;VALUE=URI;X-ADDRESS=Harvey Passage\, Calgary\, 
 Alberta\, Canada;X-APPLE-RADIUS=100;X-TITLE=Harvey Passage:geo:51.0439438,
 -114.01379600000001
END:VEVENT
BEGIN:VTIMEZONE
TZID:America/Edmonton
X-LIC-LOCATION:America/Edmonton
BEGIN:DAYLIGHT
DTSTART:20200308T030000
TZOFFSETFROM:-0700
TZOFFSETTO:-0600
TZNAME:MDT
END:DAYLIGHT
END:VTIMEZONE
END:VCALENDAR