BEGIN:VCALENDAR
VERSION:2.0
PRODID:-//wp-events-plugin.com//7.2.3.1//EN
TZID:America/Edmonton
X-WR-TIMEZONE:America/Edmonton
BEGIN:VEVENT
UID:99@paddlejunkies.com
DTSTART;TZID=America/Edmonton:20210914T180000
DTEND;TZID=America/Edmonton:20210914T203000
DTSTAMP:20210913T025544Z
URL:https://paddlejunkies.com/events/ladies-night-at-harvie-passage-tuesda
 y-september-14/
SUMMARY:Ladies Night at Harvie Passage Tuesday September 14
DESCRIPTION:Ladies Night at Harvie Passage Tuesday September 14 As we near 
 the end of the season Ladies Nights will take on a more fluid schedule\, a
 iming for days that have the best weather.\n\nCome join us for a fun\, mot
 ivational\, and inspirational evening of ladies only kayaking at Harvie Pa
 ssage. We'll work on existing skills\, building skills and challenging one
  another in this super fun positive environment.\n\nWe will be meeting at 
 Harvie Passage\, in the parking lot at 6pm.\n\nYou must have taken an intr
 o to whitewater course or comparable and you must be an active 2021 PJ’s
  member to sign up. If you're having issues signing up for the event\, ple
 ase ensure that you are signed into the website and have paid your 2021 me
 mbership fees.\n\nYou are responsible to bring your own boat\, pfd\, helme
 t\, and paddle. We do not have gear available to borrow.
CATEGORIES:River Run
LOCATION:Harvey Passage\, Harvey Passage\, Calgary\, Alberta\, Canada
GEO:51.0439438;-114.01379600000001
X-APPLE-STRUCTURED-LOCATION;VALUE=URI;X-ADDRESS=Harvey Passage\, Calgary\, 
 Alberta\, Canada;X-APPLE-RADIUS=100;X-TITLE=Harvey Passage:geo:51.0439438,
 -114.01379600000001
END:VEVENT
BEGIN:VTIMEZONE
TZID:America/Edmonton
X-LIC-LOCATION:America/Edmonton
BEGIN:DAYLIGHT
DTSTART:20210314T030000
TZOFFSETFROM:-0700
TZOFFSETTO:-0600
TZNAME:MDT
END:DAYLIGHT
END:VTIMEZONE
END:VCALENDAR