BEGIN:VCALENDAR
VERSION:2.0
PRODID:-//wp-events-plugin.com//7.2.3.1//EN
TZID:America/Edmonton
X-WR-TIMEZONE:America/Edmonton
BEGIN:VEVENT
UID:78@paddlejunkies.com
DTSTART;TZID=America/Edmonton:20200901T180000
DTEND;TZID=America/Edmonton:20200901T200000
DTSTAMP:20200830T040932Z
URL:https://paddlejunkies.com/events/ladies-night-at-harvie-passage-09-01-
 20/
SUMMARY:Ladies Night at Harvie Passage 09-01-20
DESCRIPTION:Ladies Night at Harvie Passage 09-01-20 Ladies\, join us for a 
 fun \, challenging evening at Harvie Passage.\n\nIt’s starting to feel a
  bit like fall\, please arrive a bit earlier than 6 to get ready\, this wa
 y we can try to be in the water shortly after 6 and make the most of the d
 aylight.
CATEGORIES:River Run
LOCATION:Harvey Passage\, Harvey Passage\, Calgary\, Alberta\, Canada
GEO:51.0439438;-114.01379600000001
X-APPLE-STRUCTURED-LOCATION;VALUE=URI;X-ADDRESS=Harvey Passage\, Calgary\, 
 Alberta\, Canada;X-APPLE-RADIUS=100;X-TITLE=Harvey Passage:geo:51.0439438,
 -114.01379600000001
END:VEVENT
BEGIN:VTIMEZONE
TZID:America/Edmonton
X-LIC-LOCATION:America/Edmonton
BEGIN:DAYLIGHT
DTSTART:20200308T030000
TZOFFSETFROM:-0700
TZOFFSETTO:-0600
TZNAME:MDT
END:DAYLIGHT
END:VTIMEZONE
END:VCALENDAR