BEGIN:VCALENDAR
VERSION:2.0
PRODID:-//wp-events-plugin.com//7.2.3.1//EN
TZID:America/Edmonton
X-WR-TIMEZONE:America/Edmonton
BEGIN:VEVENT
UID:76@paddlejunkies.com
DTSTART;TZID=America/Edmonton:20200825T180000
DTEND;TZID=America/Edmonton:20200825T203000
DTSTAMP:20200825T045204Z
URL:https://paddlejunkies.com/events/ladies-night-at-harvie-passage-08-25-
 20/
SUMMARY:Ladies Night at Harvie Passage 08-25-20
DESCRIPTION:Ladies Night at Harvie Passage 08-25-20 \n 	Ladies\, come out a
 nd join us at Harvie Passage for a fun and challenge filled evening at Har
 vie Passage.\n\nWe will meet in the parking lot at 6pm\n\nThe days are sta
 rting to get a bit shorter and sometimes parking can be a challenge when i
 t’s hot. Please try to arrive at the Pierce Estates parking lot a bit ea
 rlier so that we can optimize the amount of time we have on the water.
CATEGORIES:River Run
LOCATION:Harvey Passage\, Harvey Passage\, Calgary\, Alberta\, Canada
GEO:51.0439438;-114.01379600000001
X-APPLE-STRUCTURED-LOCATION;VALUE=URI;X-ADDRESS=Harvey Passage\, Calgary\, 
 Alberta\, Canada;X-APPLE-RADIUS=100;X-TITLE=Harvey Passage:geo:51.0439438,
 -114.01379600000001
END:VEVENT
BEGIN:VTIMEZONE
TZID:America/Edmonton
X-LIC-LOCATION:America/Edmonton
BEGIN:DAYLIGHT
DTSTART:20200308T030000
TZOFFSETFROM:-0700
TZOFFSETTO:-0600
TZNAME:MDT
END:DAYLIGHT
END:VTIMEZONE
END:VCALENDAR