BEGIN:VCALENDAR
VERSION:2.0
PRODID:-//wp-events-plugin.com//7.2.3.1//EN
TZID:America/Edmonton
X-WR-TIMEZONE:America/Edmonton
BEGIN:VEVENT
UID:224@paddlejunkies.com
DTSTART;TZID=America/Edmonton:20240530T181500
DTEND;TZID=America/Edmonton:20240530T200000
DTSTAMP:20240530T225807Z
URL:https://paddlejunkies.com/events/harvie-passage/
SUMMARY:Harvie Passage
DESCRIPTION:Harvie Passage Join us for a Harvie Passage session May 30th\, 
 meeting in the parking lot at 6:15pm. It's a class 2 section.\n\nMap with 
 pin \n\nRequirements: \n\n 	You need to have taken an intro to whitewater 
 course or have comparable experience. You need to be comfortable with doin
 g wet exit in class 2 rapids.\n 	You must be an active 2024 member of Padd
 le Junkies to sign up\n 	Bring your own gear – your boat with float bags
 \, PFD\, helmet\, spray skirt\,  paddle and throwbag.\n\nIf you want to r
 egister but see that bookings are closed for this event:\n\n-Have you paid
  for your membership at www.paddlejunkies.com/membership\n-Have you create
 d an account/user name at www.paddlejunkies.com/register\n-Have you regist
 ered with the same email as you used for your membership payment (otherwis
 e we don't know who to activate)\n-Have you waited 48 hours for our volunt
 eers to activate your PJ account\n-Are you logged in to your account befor
 e trying to sign up for the event\n\n-If it still doesn’t work\, please 
 message us!\n\n&nbsp\;\n\n
CATEGORIES:River Run
LOCATION:Harvie Passage\, Harvie Passage\, Calgary\, Canada
X-APPLE-STRUCTURED-LOCATION;VALUE=URI;X-ADDRESS=Harvie Passage\, Calgary\, 
 Canada;X-APPLE-RADIUS=100;X-TITLE=Harvie Passage:geo:0,0
END:VEVENT
BEGIN:VTIMEZONE
TZID:America/Edmonton
X-LIC-LOCATION:America/Edmonton
BEGIN:DAYLIGHT
DTSTART:20240310T030000
TZOFFSETFROM:-0700
TZOFFSETTO:-0600
TZNAME:MDT
END:DAYLIGHT
END:VTIMEZONE
END:VCALENDAR