BEGIN:VCALENDAR
VERSION:2.0
PRODID:-//wp-events-plugin.com//7.2.3.1//EN
TZID:America/Edmonton
X-WR-TIMEZONE:America/Edmonton
BEGIN:VEVENT
UID:231@paddlejunkies.com
DTSTART;TZID=America/Edmonton:20240721T080000
DTEND;TZID=America/Edmonton:20240721T170000
DTSTAMP:20240628T033605Z
URL:https://paddlejunkies.com/events/full-day-class-3-run-2/
SUMMARY:Full Day Class 3 Run
DESCRIPTION:Full Day Class 3 Run Hey everyone!\n\nLast year\, at our member
 s' request\, we ran a couple of Class 3 days where we brought in an instru
 ctor from Aquabatics to provide some Class 3 opportunities for strong Clas
 s 2 paddlers who are looking to do a bit more.\n\nWe're back again this ye
 ar\, and this is the third of our runs. For this run\, our instructor will
  be choosing a Class 3 river for us (likely the Kan but its dependent on f
 lows elsewhere) to run on and we want you to be there! Aquabatics is provi
 ding the trip leaders\, and we're providing the fun!\n\nThis is a kayakers
  only run. Meeting time and location will be sent out on Saturday. but thi
 s intended to be an all-day run. You must be a current Paddle Junkies 2024
  member to attend. You should be comfortable in Class 2 and looking to try
  some class 3\, with a solid flatwater and with the confidence to try it i
 n moving water. You should also have all the necessary gear for paddling -
  boat/raft/SUP\, paddle\, PFD\, helmet. etc.\n\nOne last thing: there is a
  cost for the trip\, where we're happy to pick up a good chunk of the tab 
 but asking the attendees to chip in $75 for a full Class 3 day!\n\nSo sign
  on up if you're interested\, and if you can't make this one but you'd lik
 e to reach out and let us know if this something you want to see more of (
 or less)\, please do!
CATEGORIES:PJ Trip,River Run
LOCATION:TBD\, River\, Calgary\, Alberta\, Canada
X-APPLE-STRUCTURED-LOCATION;VALUE=URI;X-ADDRESS=River\, Calgary\, Alberta\,
  Canada;X-APPLE-RADIUS=100;X-TITLE=TBD:geo:0,0
END:VEVENT
BEGIN:VTIMEZONE
TZID:America/Edmonton
X-LIC-LOCATION:America/Edmonton
BEGIN:DAYLIGHT
DTSTART:20240310T030000
TZOFFSETFROM:-0700
TZOFFSETTO:-0600
TZNAME:MDT
END:DAYLIGHT
END:VTIMEZONE
END:VCALENDAR