BEGIN:VCALENDAR
VERSION:2.0
PRODID:-//wp-events-plugin.com//7.2.3.1//EN
TZID:America/Edmonton
X-WR-TIMEZONE:America/Edmonton
BEGIN:VEVENT
UID:145@paddlejunkies.com
DTSTART;TZID=America/Edmonton:20221122T190000
DTEND;TZID=America/Edmonton:20221122T200000
DTSTAMP:20221123T013943Z
URL:https://paddlejunkies.com/events/exec-meeting/
SUMMARY:Exec Meeting
DESCRIPTION:Exec Meeting Hey everyone!\n\nOur executive meetings are open t
 o any Paddle Junkies member\, so if you're interested\, come on by. An upd
 ate will be made with the Zoom link we're using a day or two before the me
 eting\, drop on in if you'd like to learn more about what's happening at P
 Js.\n\nHere is the Zoom for today's event:\n\nTopic: PJs\nTime: Nov 22\, 2
 022 07:00 PM Edmonton\n\nJoin Zoom Meeting\nhttps://us02web.zoom.us/j/8743
 8947727?pwd=WFhTRHVVU291M1FsK1lCcWt1bFo0Zz09\n\nMeeting ID: 874 3894 7727\
 nPasscode: 762608\nOne tap mobile\n+12063379723\,\,87438947727#\,\,\,\,*76
 2608# US (Seattle)\n+12678310333\,\,87438947727#\,\,\,\,*762608# US (Phila
 delphia)\n\nDial by your location\n+1 206 337 9723 US (Seattle)\n+1 267 83
 1 0333 US (Philadelphia)\n+1 309 205 3325 US\nMeeting ID: 874 3894 7727\nP
 asscode: 762608\nFind your local number: https://us02web.zoom.us/u/kdKg977
 ap2\n\n&nbsp\;
CATEGORIES:PJ Exec Meeting
LOCATION:Remote\, Zoom to Follow\, Calgary\, Canada
X-APPLE-STRUCTURED-LOCATION;VALUE=URI;X-ADDRESS=Zoom to Follow\, Calgary\, 
 Canada;X-APPLE-RADIUS=100;X-TITLE=Remote:geo:0,0
END:VEVENT
BEGIN:VTIMEZONE
TZID:America/Edmonton
X-LIC-LOCATION:America/Edmonton
BEGIN:STANDARD
DTSTART:20221106T010000
TZOFFSETFROM:-0600
TZOFFSETTO:-0700
TZNAME:MST
END:STANDARD
END:VTIMEZONE
END:VCALENDAR