BEGIN:VCALENDAR
VERSION:2.0
PRODID:-//wp-events-plugin.com//7.2.3.1//EN
TZID:America/Edmonton
X-WR-TIMEZONE:America/Edmonton
BEGIN:VEVENT
UID:197@paddlejunkies.com
DTSTART;TZID=America/Edmonton:20231219T190000
DTEND;TZID=America/Edmonton:20231219T203000
DTSTAMP:20231219T234452Z
URL:https://paddlejunkies.com/events/exec-meeting-9/
SUMMARY:Exec Meeting
DESCRIPTION:Exec Meeting Hey everyone!\n\nOur executive meetings are open t
 o any Paddle Junkies member\, so if you're interested\, come on by. This i
 s a hybrid meeting\, so jump on the Zoom if you like or you can meet us in
 -person at the Dorset British Pub (address below). Drop on in if you'd lik
 e to learn more about what's happening at PJs.\n\nLink: https://secureauth
 .zoom.us/my/dave.bullas\n\nLocation: Dorset British Pub\n\nWebsite: https:
 //www.thedorset.ca/\n\nAddress: the corner of 37th St and 17th Ave SW
CATEGORIES:PJ Exec Meeting
LOCATION:Remote\, Zoom to Follow\, Calgary\, Canada
X-APPLE-STRUCTURED-LOCATION;VALUE=URI;X-ADDRESS=Zoom to Follow\, Calgary\, 
 Canada;X-APPLE-RADIUS=100;X-TITLE=Remote:geo:0,0
END:VEVENT
BEGIN:VTIMEZONE
TZID:America/Edmonton
X-LIC-LOCATION:America/Edmonton
BEGIN:STANDARD
DTSTART:20231105T010000
TZOFFSETFROM:-0600
TZOFFSETTO:-0700
TZNAME:MST
END:STANDARD
END:VTIMEZONE
END:VCALENDAR