BEGIN:VCALENDAR
VERSION:2.0
PRODID:-//wp-events-plugin.com//7.2.3.1//EN
TZID:America/Edmonton
X-WR-TIMEZONE:America/Edmonton
BEGIN:VEVENT
UID:73@paddlejunkies.com
DTSTART;TZID=America/Edmonton:20200813T180000
DTEND;TZID=America/Edmonton:20200813T203000
DTSTAMP:20200807T194225Z
URL:https://paddlejunkies.com/events/beginnernight-2020-08-13/
SUMMARY:Beginner Night Bowness to Shouldice 2020-08-13
DESCRIPTION:Beginner Night Bowness to Shouldice 2020-08-13 Let’s have som
 e fun in town. River run on the Bow River from Bowness Park to Shouldice P
 ark.\n\nMeeting @ Bowness park at 6:00 PM to arrange shuttle.
CATEGORIES:River Run
LOCATION:Bow River - Bowness Park to Shouldice Park\, Bowness Park\, Calgar
 y\, Alberta\, Canada
GEO:51.097159;-114.21691399999997
X-APPLE-STRUCTURED-LOCATION;VALUE=URI;X-ADDRESS=Bowness Park\, Calgary\, Al
 berta\, Canada;X-APPLE-RADIUS=100;X-TITLE=Bow River - Bowness Park to Shou
 ldice Park:geo:51.097159,-114.21691399999997
END:VEVENT
BEGIN:VTIMEZONE
TZID:America/Edmonton
X-LIC-LOCATION:America/Edmonton
BEGIN:DAYLIGHT
DTSTART:20200308T030000
TZOFFSETFROM:-0700
TZOFFSETTO:-0600
TZNAME:MDT
END:DAYLIGHT
END:VTIMEZONE
END:VCALENDAR