BEGIN:VCALENDAR
VERSION:2.0
PRODID:-//wp-events-plugin.com//7.2.3.1//EN
TZID:America/Edmonton
X-WR-TIMEZONE:America/Edmonton
BEGIN:VEVENT
UID:164@paddlejunkies.com
DTSTART;TZID=America/Edmonton:20230531T180000
DTEND;TZID=America/Edmonton:20230531T203000
DTSTAMP:20230529T190721Z
URL:https://paddlejunkies.com/events/beginner-ghost-run-5/
SUMMARY:Beginner Ghost Run
DESCRIPTION:Beginner Ghost Run This is a run for paddlers new to whitewater
 .  We’ll be running a section of the Bow River from the Ghost Dam to th
 e Wild Cat Gas Plant which is Class 1 with a couple of Class 2 features. 
  Join us for a fun evening on the river.\n\nMeet at the TransAlta Ghost Da
 m put in ( exit at the Cottage Club and drive to the end of the road ) at 
 6:00pm\, once everyone has arrived and is ready we will shuttle cars down 
 to the Wild Cat Gas Plant and get on the river.\n\nRequirements: \n\n 	\n\
 n 	You need to have taken an intro to whitewater course or have comparable
  experience. If this is not yet the case\, please message us and we can di
 scuss further!\n 	You must be an active 2023 member of Paddle Junkies to s
 ign up\n 	Bring your own gear – your boat\, PFD\, helmet\, spray skirt a
 nd paddle.  Float bags are greatly appreciated.\n\n 	Also\, it’s actual
 ly required to carry a whistle and rope on each watercraft\, so if you don
 ’t have those yet\, consider purchasing them very soon\n\n\n\n\n\nIf you
  want to register but see that bookings are closed for this event:\n\n-Hav
 e you paid for your membership at www.paddlejunkies.com/membership\n-Have 
 you created an account/user name at www.paddlejunkies.com/register\n-Have 
 you registered with the same email as you used for your membership payment
  (otherwise we don't know who to activate)\n-Have you waited 48 hours for 
 our volunteers to activate your PJ account\n-Are you logged in to your acc
 ount before trying to sign up for the event\n\n-If it still doesn’t work
 \, please message us!\n\n\n
CATEGORIES:River Run
LOCATION:Bow River - Ghost Dam to Wild Cat Gas Plant\, Ghost Dam\, 67CR+2M 
 Radnor\, Alberta\, Cochrane\, Alberta\, Canada
GEO:51.2200625;-114.70831250000003
X-APPLE-STRUCTURED-LOCATION;VALUE=URI;X-ADDRESS=Ghost Dam\, 67CR+2M Radnor\
 , Alberta\, Cochrane\, Alberta\, Canada;X-APPLE-RADIUS=100;X-TITLE=Bow Riv
 er - Ghost Dam to Wild Cat Gas Plant:geo:51.2200625,-114.70831250000003
END:VEVENT
BEGIN:VTIMEZONE
TZID:America/Edmonton
X-LIC-LOCATION:America/Edmonton
BEGIN:DAYLIGHT
DTSTART:20230312T030000
TZOFFSETFROM:-0700
TZOFFSETTO:-0600
TZNAME:MDT
END:DAYLIGHT
END:VTIMEZONE
END:VCALENDAR