BEGIN:VCALENDAR
VERSION:2.0
PRODID:-//wp-events-plugin.com//7.2.3.1//EN
TZID:America/Edmonton
X-WR-TIMEZONE:America/Edmonton
BEGIN:VEVENT
UID:136@paddlejunkies.com
DTSTART;TZID=America/Edmonton:20220916T174500
DTEND;TZID=America/Edmonton:20220916T193000
DTSTAMP:20220913T171926Z
URL:https://paddlejunkies.com/events/7037/
SUMMARY:Harvie Passage
DESCRIPTION:Harvie Passage Join us for a Harvie Passage session Friday Sept
 ember 16th\, meeting in the parking lot at 5:45pm\n\nMap with pin \n\nRequ
 irements: \n\n 	\n\n 	You should know how to do a basic Eddy Turns and Fer
 ry on class 1 water.\n 	You must be an active 2022 member of Paddle Junkie
 s to sign up (if you’re having issues signing up for the event\, please 
 ensure that you are signed into the website and have paid your 2022 member
 ship fees. If it still doesn’t work\, please message us!)\n 	Bring your 
 own gear – your boat with two functional flotation bags\, PFD\, helmet\,
  and paddle.\n\n\n\n\n
CATEGORIES:River Run
LOCATION:Harvey Passage\, Harvey Passage\, Calgary\, Alberta\, Canada
GEO:51.0439438;-114.01379600000001
X-APPLE-STRUCTURED-LOCATION;VALUE=URI;X-ADDRESS=Harvey Passage\, Calgary\, 
 Alberta\, Canada;X-APPLE-RADIUS=100;X-TITLE=Harvey Passage:geo:51.0439438,
 -114.01379600000001
END:VEVENT
BEGIN:VTIMEZONE
TZID:America/Edmonton
X-LIC-LOCATION:America/Edmonton
BEGIN:DAYLIGHT
DTSTART:20220313T030000
TZOFFSETFROM:-0700
TZOFFSETTO:-0600
TZNAME:MDT
END:DAYLIGHT
END:VTIMEZONE
END:VCALENDAR