BEGIN:VCALENDAR
VERSION:2.0
PRODID:-//wp-events-plugin.com//7.2.3.1//EN
TZID:America/Edmonton
X-WR-TIMEZONE:America/Edmonton
BEGIN:VEVENT
UID:102@paddlejunkies.com
DTSTART;TZID=America/Edmonton:20220412T190000
DTEND;TZID=America/Edmonton:20220412T220000
DTSTAMP:20220412T003847Z
URL:https://paddlejunkies.com/events/2022-paddling-film-festival/
SUMMARY:2022 Paddling Film Festival
DESCRIPTION:2022 Paddling Film Festival Come join Paddle Junkies at the Glo
 be Cinema-617 8th Ave SW (please note change of location this year)\, for 
 the 2022 Paddling Film Festival.. Tuesday April 12\, 7pm.\nTickets are $15
  in advance or $20 at the door.\nWe will have a brief intermission\, where
  we have some awesome prizes to give away.\nEnter to win an Aquabound padd
 le\; and get a free digital subscription here: www.paddlingfilmfestival.co
 m/vote\nGlobe Cinema: current guidelines\, may change. Mask required in Lo
 bby and bathroom\, Globe no longer checking vaccination status. Concession
  and bar open.
CATEGORIES:Film Festival
LOCATION:Globe Cinema\, 621 8 Ave SW\, Calgary\, AB\, T2P 0A4\, Canada
GEO:51.045655;-114.075347
X-APPLE-STRUCTURED-LOCATION;VALUE=URI;X-ADDRESS=621 8 Ave SW\, Calgary\, AB
 \, T2P 0A4\, Canada;X-APPLE-RADIUS=100;X-TITLE=Globe Cinema:geo:51.045655,
 -114.075347
END:VEVENT
BEGIN:VTIMEZONE
TZID:America/Edmonton
X-LIC-LOCATION:America/Edmonton
BEGIN:DAYLIGHT
DTSTART:20220313T030000
TZOFFSETFROM:-0700
TZOFFSETTO:-0600
TZNAME:MDT
END:DAYLIGHT
END:VTIMEZONE
END:VCALENDAR