BEGIN:VCALENDAR
VERSION:2.0
PRODID:-//wp-events-plugin.com//7.2.3.1//EN
TZID:America/Edmonton
X-WR-TIMEZONE:America/Edmonton
BEGIN:VEVENT
UID:135@paddlejunkies.com
DTSTART;TZID=America/Edmonton:20221001T160000
DTEND;TZID=America/Edmonton:20221001T180000
DTSTAMP:20221001T181547Z
URL:https://paddlejunkies.com/events/2022-paddle-junkies-agm/
SUMMARY:2022 Paddle Junkies AGM
DESCRIPTION:2022 Paddle Junkies AGM Do you want to see the inner workings o
 f Paddle Junkies? Do you want to know what's happening in your club and be
  part of the decision making for 2023? Do you want to have your ear to the
  ground in Alberta's paddling community? Come out to the AGM and volunteer
  for one the available positions on the 2023 executive board.\nBefore the 
 outgoing executive board is dissolved for the year we will go over the yea
 rs numbers\; how many members we had\, how many trips were run and how the
  funds are sitting for 2023.\n\nhttps://teams.microsoft.com/l/meetup-join/
 19%3ameeting_Y2JkYmViOGYtYjdlNy00MjQ4LTgwZmEtZDExMzMwMzdiYjAz%40thread.v2/
 0?context=%7b%22Tid%22%3a%22875ee34f-8b7f-462b-abc2-81900669bdf2%22%2c%22O
 id%22%3a%22b657b556-efca-452e-ae68-2cd0d9e1ccdd%22%7d
CATEGORIES:PJ AGM
LOCATION:Max Bell Centre - Bronze Room\, 1001 Barlow Trail SE\, Calgary\, A
 B\, Canada
X-APPLE-STRUCTURED-LOCATION;VALUE=URI;X-ADDRESS=1001 Barlow Trail SE\, Calg
 ary\, AB\, Canada;X-APPLE-RADIUS=100;X-TITLE=Max Bell Centre - Bronze Room
 :geo:0,0
END:VEVENT
BEGIN:VTIMEZONE
TZID:America/Edmonton
X-LIC-LOCATION:America/Edmonton
BEGIN:DAYLIGHT
DTSTART:20220313T030000
TZOFFSETFROM:-0700
TZOFFSETTO:-0600
TZNAME:MDT
END:DAYLIGHT
END:VTIMEZONE
END:VCALENDAR