BEGIN:VCALENDAR
VERSION:2.0
PRODID:-//wp-events-plugin.com//7.2.3.1//EN
TZID:America/Edmonton
X-WR-TIMEZONE:America/Edmonton
BEGIN:VEVENT
UID:139@paddlejunkies.com
DTSTART;TZID=America/Edmonton:20221018T201500
DTEND;TZID=America/Edmonton:20221018T220000
DTSTAMP:20221012T202035Z
URL:https://paddlejunkies.com/events/2022-10-18-pool-session/
SUMMARY:2022-10-18 Pool Session
DESCRIPTION:2022-10-18 Pool Session Working with Aquabatics Outdoors we hav
 e arranged for spots in the pool sessions will AQO is doing their courses.
   Please join us as we go off the deep end (of the pool) at MNP Community
  and Sports Centre (formerly Repsol Sport Centre)\n\nRegistration to Paddl
 e Junkies Members will open 2 weeks before the pool session and to the gen
 eral public 2 days the pool session.
CATEGORIES:Pool Session
LOCATION:MNP Community & Sport Centre\, 2225 MacLeod Trail South\, Calgary\
 , AB\, T2G 5B6\, Canada
X-APPLE-STRUCTURED-LOCATION;VALUE=URI;X-ADDRESS=2225 MacLeod Trail South\, 
 Calgary\, AB\, T2G 5B6\, Canada;X-APPLE-RADIUS=100;X-TITLE=MNP Community &
  Sport Centre:geo:0,0
END:VEVENT
BEGIN:VTIMEZONE
TZID:America/Edmonton
X-LIC-LOCATION:America/Edmonton
BEGIN:DAYLIGHT
DTSTART:20220313T030000
TZOFFSETFROM:-0700
TZOFFSETTO:-0600
TZNAME:MDT
END:DAYLIGHT
END:VTIMEZONE
END:VCALENDAR