BEGIN:VCALENDAR
VERSION:2.0
PRODID:-//wp-events-plugin.com//7.2.3.1//EN
TZID:America/Edmonton
X-WR-TIMEZONE:America/Edmonton
BEGIN:VEVENT
UID:101@paddlejunkies.com
DTSTART;TZID=America/Edmonton:20220203T190000
DTEND;TZID=America/Edmonton:20220203T210000
DTSTAMP:20220107T025142Z
URL:https://paddlejunkies.com/events/2022-02-03-paddle-junkies-executive-m
 eeting/
SUMMARY:2022-02-03 Paddle Junkies Executive Meeting
DESCRIPTION:2022-02-03 Paddle Junkies Executive Meeting Come join in the fu
 n.  Register for this meeting and we will email you the details to join t
 he Teams meeting.
CATEGORIES:PJ Exec Meeting
END:VEVENT
BEGIN:VTIMEZONE
TZID:America/Edmonton
X-LIC-LOCATION:America/Edmonton
BEGIN:STANDARD
DTSTART:20211107T010000
TZOFFSETFROM:-0600
TZOFFSETTO:-0700
TZNAME:MST
END:STANDARD
END:VTIMEZONE
END:VCALENDAR