BEGIN:VCALENDAR
VERSION:2.0
PRODID:-//wp-events-plugin.com//7.2.3.1//EN
TZID:America/Edmonton
X-WR-TIMEZONE:America/Edmonton
BEGIN:VEVENT
UID:98@paddlejunkies.com
DTSTART;TZID=America/Edmonton:20211030T140000
DTEND;TZID=America/Edmonton:20211030T180000
DTSTAMP:20211028T031952Z
URL:https://paddlejunkies.com/events/2021-paddle-junkies-agm/
SUMMARY:2021 Paddle Junkies AGM - VIRTUAL
DESCRIPTION:2021 Paddle Junkies AGM - VIRTUAL ***Update*** due to current g
 overnment restrictions the 2021 Paddle Junkies AGM will be a virtual event
 . Starting at 2pm on Saturday October 30th. Login using the link below to 
 be entered to win one of our awesome door prizes.\nhttps://fielding-edu.zo
 om.us/j/92909449055\n\nDo you want to see the inner workings of Paddle Jun
 kies? Do you want to know what's happening in your club and be part of the
  decision making for 2022? Do you want to have your ear to the ground in A
 lberta's paddling community? Come out to the AGM and volunteer for one th
 e available positions on the 2022 executive board.\nBefore the outgoing ex
 ecutive board is dissolved for the year we will go over the years numbers\
 ; how many members we had\, how many trips were run and how the funds are 
 sitting for 2022.\nWe will also be voting to make some changes to the Padd
 le Junkies Whitewater Club's bylaws. The two changes we will be looking to
  make are:\n1) to reduce the number of days required to call an AGM from 4
 5 days to 30 days.\n2) to change the description of the role of our Member
 s at Large so that they are no longer considered to be Directors.\n
CATEGORIES:River Run
END:VEVENT
BEGIN:VTIMEZONE
TZID:America/Edmonton
X-LIC-LOCATION:America/Edmonton
BEGIN:DAYLIGHT
DTSTART:20210314T030000
TZOFFSETFROM:-0700
TZOFFSETTO:-0600
TZNAME:MDT
END:DAYLIGHT
END:VTIMEZONE
END:VCALENDAR