BEGIN:VCALENDAR
VERSION:2.0
PRODID:-//wp-events-plugin.com//7.2.3.1//EN
TZID:America/Edmonton
X-WR-TIMEZONE:America/Edmonton
BEGIN:VEVENT
UID:80@paddlejunkies.com
DTSTART;TZID=America/Edmonton:20200910T180000
DTEND;TZID=America/Edmonton:20200910T210000
DTSTAMP:20200907T224528Z
URL:https://paddlejunkies.com/events/2020-09-10-bow-river-ghost-run-2/
SUMMARY:2020-09-10 Bow River Ghost Run
DESCRIPTION:2020-09-10 Bow River Ghost Run The weather looks good for Thurs
 day so let's try one more run from the Ghost dam to the Wildcat Gas Plant.
    Although the water level's are down there are still a few worthwhile 
 features.    Due to COVID-19 restrictions\, we have a reduced ratio of p
 addlers to leaders.\n\nPlease meet at the Ghost Dam access gate at 5:30 pm
  where we'll proceed to drop our equipment and shuttle to the gas plant. 
   This earlier start is to allow sufficient time on the water before dark
 .   Paddlers that can't make 5:30 can park at the access gate in order t
 hat everyone can launch our kayaks down the hill at 6:00 pm.      As pe
 r AWA guidelines\, and in consideration of your fellow paddlers\,  please
  bring a dry mask to wear after the run to shuttle.\n\nEnsure that you hav
 e all your gear with you including boats\, paddles\, PFD's\, footwear\, he
 lmets\, spray skirts\, and throw bags.   Also note that the put in and t
 ake out require hiking down/up from the river.\n\nThis is a Class II river
  section and we require that you have taken an introduction to whitewater 
 course prior to signing up.
CATEGORIES:River Run
LOCATION:Bow River - Ghost Dam to Wild Cat Gas Plant\, Ghost Dam\, 67CR+2M 
 Radnor\, Alberta\, Cochrane\, Alberta\, Canada
GEO:51.2200625;-114.70831250000003
X-APPLE-STRUCTURED-LOCATION;VALUE=URI;X-ADDRESS=Ghost Dam\, 67CR+2M Radnor\
 , Alberta\, Cochrane\, Alberta\, Canada;X-APPLE-RADIUS=100;X-TITLE=Bow Riv
 er - Ghost Dam to Wild Cat Gas Plant:geo:51.2200625,-114.70831250000003
END:VEVENT
BEGIN:VTIMEZONE
TZID:America/Edmonton
X-LIC-LOCATION:America/Edmonton
BEGIN:DAYLIGHT
DTSTART:20200308T030000
TZOFFSETFROM:-0700
TZOFFSETTO:-0600
TZNAME:MDT
END:DAYLIGHT
END:VTIMEZONE
END:VCALENDAR