BEGIN:VCALENDAR
VERSION:2.0
PRODID:-//wp-events-plugin.com//7.2.3.1//EN
TZID:America/Edmonton
X-WR-TIMEZONE:America/Edmonton
BEGIN:VEVENT
UID:77@paddlejunkies.com
DTSTART;TZID=America/Edmonton:20200827T180000
DTEND;TZID=America/Edmonton:20200827T210000
DTSTAMP:20200824T201921Z
URL:https://paddlejunkies.com/events/2020-08-27-bow-river-ghost-run-2/
SUMMARY:2020-08-27 Bow River Ghost Run
DESCRIPTION:2020-08-27 Bow River Ghost Run Summer continues  !   Let's s
 queeze in one more Ghost run while the water levels are good.   Rain or 
 shine we'll paddle the Bow river from the TransAlta Ghost dam down to the 
 Wildcat gas plant.  Due to COVID-19 restrictions\, we have a reduced rati
 o of paddlers to leaders.\n\nPlease meet at the Ghost Dam access gate prio
 r to 6:00 pm where we'll drop our equipment and shuttle to the gas plant.
    Note that the evenings are getting shorter and we'll leave at 6 pm sh
 arp.   As per AWA guidelines\, and in consideration of your fellow paddl
 ers\,  please bring a dry mask to wear after the run to shuttle.\n\nEnsur
 e that you have all your gear with you including boats\, paddles\, PFD's\,
  footwear\, helmets\, spray skirts\, and throw bags.   Also note that th
 e put in and take out require hiking down/up from the river.\n\nThis is a 
 Class II river section and we require that you have taken an introduction 
 to whitewater course prior to signing up.
CATEGORIES:River Run
LOCATION:Bow River - Ghost Dam to Wild Cat Gas Plant\, Ghost Dam\, 67CR+2M 
 Radnor\, Alberta\, Cochrane\, Alberta\, Canada
GEO:51.2200625;-114.70831250000003
X-APPLE-STRUCTURED-LOCATION;VALUE=URI;X-ADDRESS=Ghost Dam\, 67CR+2M Radnor\
 , Alberta\, Cochrane\, Alberta\, Canada;X-APPLE-RADIUS=100;X-TITLE=Bow Riv
 er - Ghost Dam to Wild Cat Gas Plant:geo:51.2200625,-114.70831250000003
END:VEVENT
BEGIN:VTIMEZONE
TZID:America/Edmonton
X-LIC-LOCATION:America/Edmonton
BEGIN:DAYLIGHT
DTSTART:20200308T030000
TZOFFSETFROM:-0700
TZOFFSETTO:-0600
TZNAME:MDT
END:DAYLIGHT
END:VTIMEZONE
END:VCALENDAR