BEGIN:VCALENDAR
VERSION:2.0
PRODID:-//wp-events-plugin.com//7.2.3.1//EN
TZID:America/Edmonton
X-WR-TIMEZONE:America/Edmonton
BEGIN:VEVENT
UID:75@paddlejunkies.com
DTSTART;TZID=America/Edmonton:20200820T180000
DTEND;TZID=America/Edmonton:20200820T210000
DTSTAMP:20200818T133654Z
URL:https://paddlejunkies.com/events/2020-08-20-bow-river-ghost-run/
SUMMARY:2020-08-20 Bow River Ghost Run
DESCRIPTION:2020-08-20 Bow River Ghost Run Another Hot August Night !   W
 hy not chill on some cool whitewater ?    We'll paddle the Bow river fro
 m the TransAlta Ghost dam down to the Wildcat gas plant.  Due to COVID-19
  restrictions\, we have a reduced ratio of paddlers to leaders.  Spots sh
 ould be for beginner paddlers that don't feel confident river running on t
 heir own.\n\nPlease meet at the Ghost Dam access gate at 6:00 pm where we'
 ll drop our equipment and shuttle to the gas plant.   As per AWA guideli
 nes\, and in consideration of your fellow paddlers\,  please bring a dry 
 mask to wear during the shuttle.\n\nEnsure that you have all your gear wit
 h you including boats\, paddles\, PFD's\, footwear\, helmets\, spray skirt
 s\, and throw bags.   Also note that the put in and take out require hik
 ing down/up from the river.\n\nThis is a Class II river section and we req
 uire that you have taken an introduction to whitewater course prior to sig
 ning up.
CATEGORIES:River Run
LOCATION:Bow River - Ghost Dam to Wild Cat Gas Plant\, Ghost Dam\, 67CR+2M 
 Radnor\, Alberta\, Cochrane\, Alberta\, Canada
GEO:51.2200625;-114.70831250000003
X-APPLE-STRUCTURED-LOCATION;VALUE=URI;X-ADDRESS=Ghost Dam\, 67CR+2M Radnor\
 , Alberta\, Cochrane\, Alberta\, Canada;X-APPLE-RADIUS=100;X-TITLE=Bow Riv
 er - Ghost Dam to Wild Cat Gas Plant:geo:51.2200625,-114.70831250000003
END:VEVENT
BEGIN:VTIMEZONE
TZID:America/Edmonton
X-LIC-LOCATION:America/Edmonton
BEGIN:DAYLIGHT
DTSTART:20200308T030000
TZOFFSETFROM:-0700
TZOFFSETTO:-0600
TZNAME:MDT
END:DAYLIGHT
END:VTIMEZONE
END:VCALENDAR