BEGIN:VCALENDAR
VERSION:2.0
PRODID:-//wp-events-plugin.com//7.2.3.1//EN
TZID:America/Edmonton
X-WR-TIMEZONE:America/Edmonton
BEGIN:VEVENT
UID:24@paddlejunkies.com
DTSTART;TZID=America/Edmonton:20190606T180000
DTEND;TZID=America/Edmonton:20190606T210000
DTSTAMP:20190603T014913Z
URL:https://paddlejunkies.com/events/2019-06-06/
SUMMARY:2019-06-06 Thursday Run
DESCRIPTION:2019-06-06 Thursday Run You must be a paid 2019 Paddle Junkies 
 member to book a ticket for this event.\n\nGhost Run
CATEGORIES:River Run
LOCATION:Bow River - Ghost Dam to Wild Cat Gas Plant\, Ghost Dam\, 67CR+2M 
 Radnor\, Alberta\, Cochrane\, Alberta\, Canada
GEO:51.2200625;-114.70831250000003
X-APPLE-STRUCTURED-LOCATION;VALUE=URI;X-ADDRESS=Ghost Dam\, 67CR+2M Radnor\
 , Alberta\, Cochrane\, Alberta\, Canada;X-APPLE-RADIUS=100;X-TITLE=Bow Riv
 er - Ghost Dam to Wild Cat Gas Plant:geo:51.2200625,-114.70831250000003
END:VEVENT
BEGIN:VTIMEZONE
TZID:America/Edmonton
X-LIC-LOCATION:America/Edmonton
BEGIN:DAYLIGHT
DTSTART:20190310T030000
TZOFFSETFROM:-0700
TZOFFSETTO:-0600
TZNAME:MDT
END:DAYLIGHT
END:VTIMEZONE
END:VCALENDAR